
BEGIN:VCALENDAR
VERSION:2.0
PRODID:-//ch.munkel//enrolonator//EN
CALSCALE:GREGORIAN
METHOD:PUBLISH
BEGIN:VEVENT
UID:68a71f7bb5e44c9424ffc05d
DTSTAMP:20250821T133409Z
SUMMARY:Elternbildung - In der Ey: Präsent sein - Grenzen setzen
DTSTART:20251104T183000Z
DTEND:20251104T203000Z
URL:http://elternbildung.munkel.ch/event?slug=DKQVQH
LOCATION:Singsaal der Schule In der Ey
DESCRIPTION:Präsent sein - Grenzen setzen\NNeue Autorität\NKinder werden grösser, entdecken die Welt und suchen ihre Grenzen. Dadurch wird der Alltag jeder Familie zu einer Herausforderung: ob vereinbarte Zeiten nicht eingehalten, Hausaufgaben verschwiegen oder respektlose Antworten gegeben werden – immer stellt sich die Frage, wie man als Eltern angemessen reagieren kann.\NDas Konzept der «Neuen Autorität» wurde von Haim Omer entwickelt und baut auf dem Prinzip der elterlichen Präsenz auf. «Neue Autorität» bietet hilfreiche Anregungen wie Erwachsene durch Präsenz auch in schwierigen Situationen ihre Handlungsmöglichkeiten erhalten und den Kindern und Jugendlichen Orientierung und Sicherheit bieten können.\NAn dieser Elternbildungsveranstaltung erhalten Sie Einblick in das Konzept der «Neuen Autorität» und es bleibt Raum für Fragen und Diskussionen.
END:VEVENT
END:VCALENDAR
